BEGIN:VCALENDAR
VERSION:2.0
PRODID:-//eventon.com NONSGML v1.0//EN
BEGIN:VEVENT
UID:69e7460680491
DTSTAMP:20260421T054022
DTSTART:20250813T000000Z
DTEND:20250813T020000Z
TZID:Pacific/Midway
LOCATION:Librairie l’Alphabet 120 Rue St Germain O\,  Rimouski\,  QC G5L 4B5
SUMMARY:Librairie l’Alphabet
DESCRIPTION: Librairie l’Alphabet\nhttps://alexbd.com/events/librairie-lalphabet/
URL:https://alexbd.com/events/librairie-lalphabet/
END:VEVENT
END:VCALENDAR